BEGIN:VCALENDAR
VERSION:2.0
PRODID:-//Well-Aware-Ness - ECPv5.3.1//NONSGML v1.0//EN
CALSCALE:GREGORIAN
METHOD:PUBLISH
X-WR-CALNAME:Well-Aware-Ness
X-ORIGINAL-URL:https://www.wellawareness.com.au
X-WR-CALDESC:Events for Well-Aware-Ness
BEGIN:VTIMEZONE
TZID:Australia/Sydney
BEGIN:STANDARD
TZOFFSETFROM:+1100
TZOFFSETTO:+1000
TZNAME:AEST
DTSTART:20260404T160000
END:STANDARD
BEGIN:DAYLIGHT
TZOFFSETFROM:+1000
TZOFFSETTO:+1100
TZNAME:AEDT
DTSTART:20261003T160000
END:DAYLIGHT
END:VTIMEZONE
BEGIN:VEVENT
DTSTART;TZID=Australia/Sydney:20261206T093000
DTEND;TZID=Australia/Sydney:20261206T150000
DTSTAMP:20260420T111720
CREATED:20260114T061025Z
LAST-MODIFIED:20260114T065426Z
UID:49411-1796549400-1796569200@www.wellawareness.com.au
SUMMARY:Meditation Retreat Final for 2026
DESCRIPTION:The final Retreat for 2026. \nSunday December 6th 2026. \n  \nA Meditation Retreat offers the opportunity for an experience of moving away from the business and behaviours of worldly life that keep us caught and confused. A Meditation Retreat also offers us the chance to move away from the thoughts and mental states that are a source of stress and limitation. \nIn this way a Meditation Retreat becomes a movement towards Mindfulness\, Calm and Clarity; enabling Insightful Understanding and the growth of Wisdom. \n  \nRegistration: Please Register by email: info@wellawareness.com.au \nPlease let us know ASAP as places are limited.
URL:https://www.wellawareness.com.au/event/meditation-retreat-final-for-2026/
LOCATION:‘Ratanagiri’\, 11 Double View Road\, Farrants Hill\, NSW\, 2484\, Australia
CATEGORIES:Meditation Retreat Day
ATTACH;FMTTYPE=image/jpeg:https://www.wellawareness.com.au/wp-content/uploads/2026/01/beach-scaled.jpg
ORGANIZER;CN="Well-Aware-Ness":MAILTO:info@wellawareness.com.au
GEO:-33.8253642;151.1994723
X-APPLE-STRUCTURED-LOCATION;VALUE=URI;X-ADDRESS=‘Ratanagiri’ 11 Double View Road Farrants Hill NSW 2484 Australia;X-APPLE-RADIUS=500;X-TITLE=11 Double View Road:geo:151.1994723,-33.8253642
END:VEVENT
END:VCALENDAR