BEGIN:VCALENDAR
VERSION:2.0
PRODID:-//Well-Aware-Ness - ECPv5.3.1//NONSGML v1.0//EN
CALSCALE:GREGORIAN
METHOD:PUBLISH
X-WR-CALNAME:Well-Aware-Ness
X-ORIGINAL-URL:https://www.wellawareness.com.au
X-WR-CALDESC:Events for Well-Aware-Ness
BEGIN:VTIMEZONE
TZID:Australia/Sydney
BEGIN:STANDARD
TZOFFSETFROM:+1100
TZOFFSETTO:+1000
TZNAME:AEST
DTSTART:20230401T160000
END:STANDARD
BEGIN:DAYLIGHT
TZOFFSETFROM:+1000
TZOFFSETTO:+1100
TZNAME:AEDT
DTSTART:20230930T160000
END:DAYLIGHT
END:VTIMEZONE
BEGIN:VEVENT
DTSTART;TZID=Australia/Sydney:20230119T183000
DTEND;TZID=Australia/Sydney:20230119T193000
DTSTAMP:20260423T091417
CREATED:20221209T064057Z
LAST-MODIFIED:20230128T034026Z
UID:16041-1674153000-1674156600@www.wellawareness.com.au
SUMMARY:WEEKLY DROP-IN MEDITATION GROUP – THURSDAY EVENINGS
DESCRIPTION:The weekly drop-in Thursday Night Meditation Group (6.30pm – 7.30pm NSW time) has recommended for 2023. \nThe first session back for the New Year was Thursday 19th January 2023 at my home ‘Ratanagiri’ – 11 Double View Road\, Farrants Hill\, NSW 2484. \nIf you are coming for the first time email on info@wellawareness.com.au or text me 0400 022 048.\nPlease bring your own water bottle\, pen and notebook. With the hour session we will have a 30 minute Meditation and then 30 minutes of Wisdom Reflections with questions. It will be wonderful again to meet up as a group and to continue our Meditation and Mindfulness practice\, together with some Wisdom Reflections. \nTime:  6.30pm to 7.30pm (NSW Time) \nCost: Payment per group session is by ‘Dana’  ie. your expression of your generosity (rec.$10-$20).
URL:https://www.wellawareness.com.au/event/weekly-drop-in-meditation-group/2023-01-19/
LOCATION:‘Ratanagiri’\, 11 Double View Road\, Farrants Hill\, NSW\, 2484\, Australia
CATEGORIES:Meditation Groups,Vassa Meditation Retreat begins 30th July 2023 (Full-Day)
ATTACH;FMTTYPE=image/jpeg:https://www.wellawareness.com.au/wp-content/uploads/2022/12/Map-4-scaled-e1670568552453.jpg
ORGANIZER;CN="Well-Aware-Ness":MAILTO:info@wellawareness.com.au
GEO:-33.8253642;151.1994723
X-APPLE-STRUCTURED-LOCATION;VALUE=URI;X-ADDRESS=‘Ratanagiri’ 11 Double View Road Farrants Hill NSW 2484 Australia;X-APPLE-RADIUS=500;X-TITLE=11 Double View Road:geo:151.1994723,-33.8253642
END:VEVENT
END:VCALENDAR