BEGIN:VCALENDAR
VERSION:2.0
PRODID:-//Well-Aware-Ness - ECPv5.3.1//NONSGML v1.0//EN
CALSCALE:GREGORIAN
METHOD:PUBLISH
X-WR-CALNAME:Well-Aware-Ness
X-ORIGINAL-URL:https://www.wellawareness.com.au
X-WR-CALDESC:Events for Well-Aware-Ness
BEGIN:VTIMEZONE
TZID:Australia/Sydney
BEGIN:STANDARD
TZOFFSETFROM:+1100
TZOFFSETTO:+1000
TZNAME:AEST
DTSTART:20150404T160000
END:STANDARD
BEGIN:DAYLIGHT
TZOFFSETFROM:+1000
TZOFFSETTO:+1100
TZNAME:AEDT
DTSTART:20151003T160000
END:DAYLIGHT
END:VTIMEZONE
BEGIN:VEVENT
DTSTART;TZID=Australia/Sydney:20151107T100000
DTEND;TZID=Australia/Sydney:20151107T150000
DTSTAMP:20260421T184346
CREATED:20150917T040927Z
LAST-MODIFIED:20151021T000225Z
UID:3415-1446890400-1446908400@www.wellawareness.com.au
SUMMARY:Urban Retreat - Tweed Coast Saturday 7th November 2015
DESCRIPTION:On the Tweed Coast – Urban Retreat\, Saturday 7th November \n10am to 3pm (NSW time) \n9am to 2pm (QLD time) \n  \nMindfulness Meditations & Reflections on The Four Sources of Stress & The Secrets to Success \nWe all seek happiness and fulfilment\, but this is often diminished for various reasons. \nThe Buddha in his great wisdom – pointed out what the ‘Four Sources of Stress and Suffering’ are\, and by seeing and being beyond these\, we then have the real Secrets to Success & Happiness. \nThis Mindfulness Day offers instruction and insight\, perspective and meditative practices. \nThis Urban Retreat will involve \n\nWisdom Teachings\nGuided Meditations\nDiscussion – Question and Answers\nShared experience of Peace and Understanding\nDetailed Notes to be handed out\n\nCost – $60 \nEarly Bird – $50 – Register and pay before 20th October \nAsk about our special ‘bring a friend offer’ \nWHERE:  11 Double View Road\, Farrants Hill. NSW. 2484. \n 
URL:https://www.wellawareness.com.au/event/urban-retreat-tweed-coast-saturday-7th-november-2015/
LOCATION:Ratanagiri\, 11 Double View Road\, Farrants Hill NSW 2484\, NSW\, 2484\, Australia
CATEGORIES:Workshops
ATTACH;FMTTYPE=image/jpeg:https://www.wellawareness.com.au/wp-content/uploads/2014/03/IMG_0842-Small.ed358441eef2ae689ea9de40f1e9a9ba63.jpg
ORGANIZER;CN="Well-Aware-Ness":MAILTO:info@wellawareness.com.au
GEO:-28.3541283;153.3446649
X-APPLE-STRUCTURED-LOCATION;VALUE=URI;X-ADDRESS=Ratanagiri 11 Double View Road Farrants Hill NSW 2484 NSW 2484 Australia;X-APPLE-RADIUS=500;X-TITLE=11 Double View Road:geo:153.3446649,-28.3541283
END:VEVENT
END:VCALENDAR