BEGIN:VCALENDAR
VERSION:2.0
PRODID:-//Well-Aware-Ness - ECPv5.3.1//NONSGML v1.0//EN
CALSCALE:GREGORIAN
METHOD:PUBLISH
X-WR-CALNAME:Well-Aware-Ness
X-ORIGINAL-URL:https://www.wellawareness.com.au
X-WR-CALDESC:Events for Well-Aware-Ness
BEGIN:VTIMEZONE
TZID:Australia/Sydney
BEGIN:STANDARD
TZOFFSETFROM:+1100
TZOFFSETTO:+1000
TZNAME:AEST
DTSTART:20160402T160000
END:STANDARD
BEGIN:DAYLIGHT
TZOFFSETFROM:+1000
TZOFFSETTO:+1100
TZNAME:AEDT
DTSTART:20161001T160000
END:DAYLIGHT
END:VTIMEZONE
BEGIN:VEVENT
DTSTART;TZID=Australia/Sydney:20160903T090000
DTEND;TZID=Australia/Sydney:20160903T150000
DTSTAMP:20260423T223531
CREATED:20160519T020327Z
LAST-MODIFIED:20160901T033739Z
UID:3798-1472893200-1472914800@www.wellawareness.com.au
SUMMARY:Mindfulness Meditations & Wisdom Teachings on The Psychology of the 'self' - Urban Retreat
DESCRIPTION:Urban Retreat – 14 Ridge Street North Sydney\nwith John BARTER \n‘Realise Reality and Be Beyond the ‘self’ created and self’ perpetuated drama’ \nOur egoic ‘self’ is the source of great pleasure but also of great emotional pain. Whilst we appear to have a self and even think that we are the self\, we have for too long taken this psychological tool for granted.  Now with the ever increasing emergence and merging of science\, spirituality\, and understandings in non dual awareness – our ‘self’ is being called into question. \nThis Urban Retreat offers both meditation and reflections on the psychology of the ‘self’ and the Revelation of  Reality beyond the limitation and conditioning of the ‘self’. \n  \nTopics Covered \n\nDefinition of the ‘egoic self’\nThe Psychology of the ‘egoic self’\nWise and Mindful use of our self\nWhat causes and what reduces our stress\, fear\, anger\nRealising Reality beyond the ego self\n\n9.00am to 3.00pm \nSaturday 3rd September 2016 \nPlease bring a plate of food to share
URL:https://www.wellawareness.com.au/event/urban-retreat-the-four-foundations-of-mindfulness/
LOCATION:‘Ratanagiri’\, 11 Double View Road\, Farrants Hill\, NSW\, 2484\, Australia
CATEGORIES:Featured,Vassa Meditation Retreat begins 30th July 2023 (Full-Day),Workshops
ATTACH;FMTTYPE=image/jpeg:https://www.wellawareness.com.au/wp-content/uploads/2014/11/wellaware35-e1472701020621.jpg
ORGANIZER;CN="Well-Aware-Ness":MAILTO:info@wellawareness.com.au
GEO:-33.8253642;151.1994723
X-APPLE-STRUCTURED-LOCATION;VALUE=URI;X-ADDRESS=‘Ratanagiri’ 11 Double View Road Farrants Hill NSW 2484 Australia;X-APPLE-RADIUS=500;X-TITLE=11 Double View Road:geo:151.1994723,-33.8253642
END:VEVENT
END:VCALENDAR