BEGIN:VCALENDAR
VERSION:2.0
PRODID:-//Well-Aware-Ness - ECPv5.3.1//NONSGML v1.0//EN
CALSCALE:GREGORIAN
METHOD:PUBLISH
X-WR-CALNAME:Well-Aware-Ness
X-ORIGINAL-URL:https://www.wellawareness.com.au
X-WR-CALDESC:Events for Well-Aware-Ness
BEGIN:VTIMEZONE
TZID:Australia/Sydney
BEGIN:STANDARD
TZOFFSETFROM:+1100
TZOFFSETTO:+1000
TZNAME:AEST
DTSTART:20150404T160000
END:STANDARD
BEGIN:DAYLIGHT
TZOFFSETFROM:+1000
TZOFFSETTO:+1100
TZNAME:AEDT
DTSTART:20151003T160000
END:DAYLIGHT
END:VTIMEZONE
BEGIN:VEVENT
DTSTART;TZID=Australia/Sydney:20150822T090000
DTEND;TZID=Australia/Sydney:20150822T150000
DTSTAMP:20260423T063533
CREATED:20150630T041536Z
LAST-MODIFIED:20150716T045336Z
UID:3306-1440234000-1440255600@www.wellawareness.com.au
SUMMARY:Urban Retreat - Conscious Relationship (Life is the ultimate experience of Relationship)
DESCRIPTION:Saturday Workshop – 9.00am to 3.00pm\n ‘Life is the ultimate experience of RELATIONSHIP’\nMuch of the meaning\, value\, health & happiness of our life is a result of quality relationships. However\, we rarely take the time to understand\, consciously develop & apply the elements & dynamics of relating so we can enhance our communication & relationships. This workshop has important application both personally & professionally. \nWorkshop Objectives\nLearn how the interpersonal relationships we have with others are founded on the intrapersonal relationship we have with our self.\nDevelop & enhance your personal practice of Mindfulness Meditation.\nTopics Covered\n What is Conscious Living\n Intention & Motivation for Conscious Relationships\n Being Receptive & Perceptive\n Energy & Emotion for Conscious Relationships\n Right Listening & Right Speaking for Conscious Relationships \nUsing Mindfulness based Meditations\, this Urban Day Retreat will offer both Wisdom Teachings & Mindful Practice to develop strategies to live life more consciously\, free from fear and frustration\, in peace and joy. \nJohn Barter will share contemporary understandings in Psychology\, Buddhist and non dual Wisdom Teachings. There will be group discussion\, meditation practice and question time. \nCost $130/Early Bird rate $110 pay before 5th August.
URL:https://www.wellawareness.com.au/event/urban-retreat-conscious-relationship/
LOCATION:‘Ratanagiri’\, 11 Double View Road\, Farrants Hill\, NSW\, 2484\, Australia
CATEGORIES:Featured,Vassa Meditation Retreat begins 30th July 2023 (Full-Day),Workshops
ATTACH;FMTTYPE=image/jpeg:https://www.wellawareness.com.au/wp-content/uploads/2014/03/937120_23240615.4ace06144dc728c49d8bd477b4d1238b22.jpg
ORGANIZER;CN="Well-Aware-Ness":MAILTO:info@wellawareness.com.au
GEO:-33.8253642;151.1994723
X-APPLE-STRUCTURED-LOCATION;VALUE=URI;X-ADDRESS=‘Ratanagiri’ 11 Double View Road Farrants Hill NSW 2484 Australia;X-APPLE-RADIUS=500;X-TITLE=11 Double View Road:geo:151.1994723,-33.8253642
END:VEVENT
END:VCALENDAR