BEGIN:VCALENDAR
VERSION:2.0
PRODID:-//Well-Aware-Ness - ECPv5.3.1//NONSGML v1.0//EN
CALSCALE:GREGORIAN
METHOD:PUBLISH
X-WR-CALNAME:Well-Aware-Ness
X-ORIGINAL-URL:https://www.wellawareness.com.au
X-WR-CALDESC:Events for Well-Aware-Ness
BEGIN:VTIMEZONE
TZID:Australia/Sydney
BEGIN:STANDARD
TZOFFSETFROM:+1100
TZOFFSETTO:+1000
TZNAME:AEST
DTSTART:20150404T160000
END:STANDARD
BEGIN:DAYLIGHT
TZOFFSETFROM:+1000
TZOFFSETTO:+1100
TZNAME:AEDT
DTSTART:20151003T160000
END:DAYLIGHT
END:VTIMEZONE
BEGIN:VEVENT
DTSTART;TZID=Australia/Sydney:20150628T160000
DTEND;TZID=Australia/Sydney:20150628T170000
DTSTAMP:20260421T153615
CREATED:20150520T040350Z
LAST-MODIFIED:20150728T015319Z
UID:3242-1435507200-1435510800@www.wellawareness.com.au
SUMMARY:Qi Gong with Patrice Thomas - Sunday afternoon class 30th August 2015
DESCRIPTION:Qi Gong is gentle exercise & meditation that is beneficial for people of all ages and varying levels of health & physical fitness. Our Qi Gong exercises can be done standing or sitting in a chair and involve breathing\, gentle stretching/movement and focussed intention. ‘Qi’ is our life force or vital energy and ‘Gong’ means skill that is cultivated through regular practice.   \nPeople leave the class feeling energised\, inspired and replenished. \nContact Patrice Thomas – 0412 473 335
URL:https://www.wellawareness.com.au/event/qi-gong-with-patrice-thomas-sunday-afternoon-class-31st-may-2015/
LOCATION:‘Ratanagiri’\, 11 Double View Road\, Farrants Hill\, NSW\, 2484\, Australia
CATEGORIES:Featured
ATTACH;FMTTYPE=image/png:https://www.wellawareness.com.au/wp-content/uploads/2014/11/group-meditation1.png
ORGANIZER;CN="Well-Aware-Ness":MAILTO:info@wellawareness.com.au
GEO:-33.8253642;151.1994723
X-APPLE-STRUCTURED-LOCATION;VALUE=URI;X-ADDRESS=‘Ratanagiri’ 11 Double View Road Farrants Hill NSW 2484 Australia;X-APPLE-RADIUS=500;X-TITLE=11 Double View Road:geo:151.1994723,-33.8253642
END:VEVENT
END:VCALENDAR