BEGIN:VCALENDAR
VERSION:2.0
PRODID:-//Well-Aware-Ness - ECPv5.3.1//NONSGML v1.0//EN
CALSCALE:GREGORIAN
METHOD:PUBLISH
X-WR-CALNAME:Well-Aware-Ness
X-ORIGINAL-URL:https://www.wellawareness.com.au
X-WR-CALDESC:Events for Well-Aware-Ness
BEGIN:VTIMEZONE
TZID:Australia/Sydney
BEGIN:STANDARD
TZOFFSETFROM:+1100
TZOFFSETTO:+1000
TZNAME:AEST
DTSTART:20160402T160000
END:STANDARD
BEGIN:DAYLIGHT
TZOFFSETFROM:+1000
TZOFFSETTO:+1100
TZNAME:AEDT
DTSTART:20161001T160000
END:DAYLIGHT
END:VTIMEZONE
BEGIN:VEVENT
DTSTART;TZID=Australia/Sydney:20160821T160000
DTEND;TZID=Australia/Sydney:20160821T170000
DTSTAMP:20260422T170000
CREATED:20160531T030200Z
LAST-MODIFIED:20160811T005732Z
UID:3569-1471795200-1471798800@www.wellawareness.com.au
SUMMARY:Qi Gong - 21st August 2016 - 4pm to 5pm
DESCRIPTION:Join us on Sunday 21st August 4pm to 5pm \nWhere: Well-Aware-Ness Psychology\, 14 Ridge St\, North Sydney \nCost – $20.00 \nEmail patrice@mindfulconnections.com.au \nto book your place  – M: 0412 473 335 \nQi Gong is a gentle exercise using breathing and mindfulness to cultivate our life energy \n  \nQi Gong (pronounced ‘chi gong’) is a mind-body approach developed over 5000 years ago and is well known in China but still little known in Australia. \nIncreasingly it is being used in the West as a way to develop health and wellbeing in the general population. \nIt uses physical activity and meditation to harmonise the body\, mind and spirit. \nAlmost anyone can learn to practice Qigong because it is a simple and easy exercise. \nSome Qi Gong movements are very gentle\, others are a little more vigorous. \nQi Gong is based on relaxation and deep breathing.
URL:https://www.wellawareness.com.au/event/qi-gong-28th-february-2016/
LOCATION:‘Ratanagiri’\, 11 Double View Road\, Farrants Hill\, NSW\, 2484\, Australia
CATEGORIES:Workshops
ATTACH;FMTTYPE=image/jpeg:https://www.wellawareness.com.au/wp-content/uploads/2015/07/Qi-Gong.jpg
ORGANIZER;CN="Well-Aware-Ness":MAILTO:info@wellawareness.com.au
GEO:-33.8253642;151.1994723
X-APPLE-STRUCTURED-LOCATION;VALUE=URI;X-ADDRESS=‘Ratanagiri’ 11 Double View Road Farrants Hill NSW 2484 Australia;X-APPLE-RADIUS=500;X-TITLE=11 Double View Road:geo:151.1994723,-33.8253642
END:VEVENT
END:VCALENDAR