BEGIN:VCALENDAR
VERSION:2.0
PRODID:-//Well-Aware-Ness - ECPv5.3.1//NONSGML v1.0//EN
CALSCALE:GREGORIAN
METHOD:PUBLISH
X-WR-CALNAME:Well-Aware-Ness
X-ORIGINAL-URL:https://www.wellawareness.com.au
X-WR-CALDESC:Events for Well-Aware-Ness
BEGIN:VTIMEZONE
TZID:Australia/Sydney
BEGIN:STANDARD
TZOFFSETFROM:+1100
TZOFFSETTO:+1000
TZNAME:AEST
DTSTART:20220402T160000
END:STANDARD
BEGIN:DAYLIGHT
TZOFFSETFROM:+1000
TZOFFSETTO:+1100
TZNAME:AEDT
DTSTART:20221001T160000
END:DAYLIGHT
END:VTIMEZONE
BEGIN:VEVENT
DTSTART;TZID=Australia/Sydney:20221009T093000
DTEND;TZID=Australia/Sydney:20221009T150000
DTSTAMP:20260423T092143
CREATED:20220831T052505Z
LAST-MODIFIED:20220927T050318Z
UID:13457-1665307800-1665327600@www.wellawareness.com.au
SUMMARY:Next Meditation Retreat - Vassa Retreat 2022
DESCRIPTION:VASSA RETREAT 2022 \n  \nOur Non-Residential Vassa Retreat 2022\, has now had three of the four monthly Sunday Retreat Days. \nOur last Retreat Day was held on Sunday 11th of September and was well attended. \nOur next Sunday Retreat Day as part of the 3 month Vassa Retreat period is on Sunday 9th of October from 9.30am – 3.00pm at Ratanagiri Farrants Hill. \nIf you have not attended either of the past three Retreat Days\, you certainly are still welcome to attend the last Vassa Retreat Day on Sunday 9th October. \nIf you have not already Registered for Sunday 9th October – please let us know if you wish to attend by sending an email: info@wellawareness.com.au \n 
URL:https://www.wellawareness.com.au/event/next-meditation-retreat-vassa-retreat-2022/
LOCATION:‘Ratanagiri’\, 11 Double View Road\, Farrants Hill\, NSW\, 2484\, Australia
CATEGORIES:Featured,Vassa Meditation Retreat begins 30th July 2023 (Full-Day)
ORGANIZER;CN="Well-Aware-Ness":MAILTO:info@wellawareness.com.au
GEO:-33.8253642;151.1994723
X-APPLE-STRUCTURED-LOCATION;VALUE=URI;X-ADDRESS=‘Ratanagiri’ 11 Double View Road Farrants Hill NSW 2484 Australia;X-APPLE-RADIUS=500;X-TITLE=11 Double View Road:geo:151.1994723,-33.8253642
END:VEVENT
END:VCALENDAR