BEGIN:VCALENDAR
VERSION:2.0
PRODID:-//Well-Aware-Ness - ECPv5.3.1//NONSGML v1.0//EN
CALSCALE:GREGORIAN
METHOD:PUBLISH
X-WR-CALNAME:Well-Aware-Ness
X-ORIGINAL-URL:https://www.wellawareness.com.au
X-WR-CALDESC:Events for Well-Aware-Ness
BEGIN:VTIMEZONE
TZID:Australia/Sydney
BEGIN:STANDARD
TZOFFSETFROM:+1100
TZOFFSETTO:+1000
TZNAME:AEST
DTSTART:20160402T160000
END:STANDARD
BEGIN:DAYLIGHT
TZOFFSETFROM:+1000
TZOFFSETTO:+1100
TZNAME:AEDT
DTSTART:20161001T160000
END:DAYLIGHT
END:VTIMEZONE
BEGIN:VEVENT
DTSTART;TZID=Australia/Sydney:20160618T090000
DTEND;TZID=Australia/Sydney:20160618T150000
DTSTAMP:20260423T073220
CREATED:20160303T015352Z
LAST-MODIFIED:20160519T021657Z
UID:3607-1466240400-1466262000@www.wellawareness.com.au
SUMMARY:Mindfulness Meditations & Wisdom Teachings on 'The Psycho Spiritual Immune System' - Urban Retreat June 18
DESCRIPTION:Mindfulness Meditations & Wisdom Teachings – Urban Retreat\nDeveloping the Resilience of our Psycho-Spiritual Immune System\nWhen: Saturday 18th June 2016 \nWhere: 14 Ridge Street North Sydney \nTime: 9.00am to 3.00pm \nThe quality of our well-being both physically and mentally relates to our Psycho Spiritual resilience. \nDeveloping and strengthening ‘our Psycho Spiritual Immune System’ can protect us from other people’s stress and negativity while also helping us not to be infected by our own negative thoughts and emotions. \nMindfulness Meditations & Reflections for Being Well – Living Well\n Topics Covered \n Connection to Ourself/Connection to Others\n The Physical Immune System\n Negative Thoughts\, Mind States & Emotions\n Other People’s Stress\, Fear\, Frustration \nPlease bring a plate of food to share for lunch.
URL:https://www.wellawareness.com.au/event/mindfulness-meditations-wisdom-teachings-urban-retreat-june-18/
LOCATION:‘Ratanagiri’\, 11 Double View Road\, Farrants Hill\, NSW\, 2484\, Australia
CATEGORIES:Featured,Vassa Meditation Retreat begins 30th July 2023 (Full-Day),Workshops
ATTACH;FMTTYPE=image/jpeg:https://www.wellawareness.com.au/wp-content/uploads/2014/11/862405_93871398.3abf7b792aec6987a10beea02bca306d401.jpg
ORGANIZER;CN="Well-Aware-Ness":MAILTO:info@wellawareness.com.au
GEO:-33.8253642;151.1994723
X-APPLE-STRUCTURED-LOCATION;VALUE=URI;X-ADDRESS=‘Ratanagiri’ 11 Double View Road Farrants Hill NSW 2484 Australia;X-APPLE-RADIUS=500;X-TITLE=11 Double View Road:geo:151.1994723,-33.8253642
END:VEVENT
END:VCALENDAR