BEGIN:VCALENDAR
VERSION:2.0
PRODID:-//Well-Aware-Ness - ECPv5.3.1//NONSGML v1.0//EN
CALSCALE:GREGORIAN
METHOD:PUBLISH
X-WR-CALNAME:Well-Aware-Ness
X-ORIGINAL-URL:https://www.wellawareness.com.au
X-WR-CALDESC:Events for Well-Aware-Ness
BEGIN:VTIMEZONE
TZID:Australia/Sydney
BEGIN:STANDARD
TZOFFSETFROM:+1100
TZOFFSETTO:+1000
TZNAME:AEST
DTSTART:20230401T160000
END:STANDARD
BEGIN:DAYLIGHT
TZOFFSETFROM:+1000
TZOFFSETTO:+1100
TZNAME:AEDT
DTSTART:20230930T160000
END:DAYLIGHT
END:VTIMEZONE
BEGIN:VEVENT
DTSTART;TZID=Australia/Sydney:20230514T093000
DTEND;TZID=Australia/Sydney:20230514T093000
DTSTAMP:20260422T215935
CREATED:20230430T075618Z
LAST-MODIFIED:20230430T075618Z
UID:9969-1684056600-1684056600@www.wellawareness.com.au
SUMMARY:Half Day Meditation Retreat May 2023
DESCRIPTION:Metta is the Buddhist word for the wonderful quality of Kindness & Friendliness.\nMetta is the all important quality that is used for conscious\, caring connections with others\n& also towards our self. \nThe Buddha emphasised the importance of exercising Metta as a healthy and healing balm for our Mind and Heart.\nAmidst the stresses & challenges of our contemporary life\, Metta is a wonderful psycho- spiritual quality that translates into the biochemicals that are needed for physical health and wellbeing\, as well as positive\ninterpersonal interactions in our life. \nThis half-day meditation retreat offers the opportunity to both appreciate & practice Metta.\nAnd will involve: Metta Meditation Practice\, Receiving Teachings & Instruction\, \nFor more information:  Mettaji Retreat 14 May 2023 Flyer 2 per page
URL:https://www.wellawareness.com.au/event/half-day-meditation-retreat-may-2023/
LOCATION:‘Ratanagiri’\, 11 Double View Road\, Farrants Hill\, NSW\, 2484\, Australia
CATEGORIES:Vassa Meditation Retreat begins 30th July 2023 (Full-Day)
ATTACH;FMTTYPE=image/jpeg:https://www.wellawareness.com.au/wp-content/uploads/2023/04/Welcome-to-Spring-2022.jpg
GEO:-33.8253642;151.1994723
X-APPLE-STRUCTURED-LOCATION;VALUE=URI;X-ADDRESS=‘Ratanagiri’ 11 Double View Road Farrants Hill NSW 2484 Australia;X-APPLE-RADIUS=500;X-TITLE=11 Double View Road:geo:151.1994723,-33.8253642
END:VEVENT
END:VCALENDAR