BEGIN:VCALENDAR
VERSION:2.0
PRODID:-//Well-Aware-Ness - ECPv5.3.1//NONSGML v1.0//EN
CALSCALE:GREGORIAN
METHOD:PUBLISH
X-WR-CALNAME:Well-Aware-Ness
X-ORIGINAL-URL:https://www.wellawareness.com.au
X-WR-CALDESC:Events for Well-Aware-Ness
BEGIN:VTIMEZONE
TZID:Australia/Sydney
BEGIN:STANDARD
TZOFFSETFROM:+1100
TZOFFSETTO:+1000
TZNAME:AEST
DTSTART:20150404T160000
END:STANDARD
BEGIN:DAYLIGHT
TZOFFSETFROM:+1000
TZOFFSETTO:+1100
TZNAME:AEDT
DTSTART:20151003T160000
END:DAYLIGHT
END:VTIMEZONE
BEGIN:VEVENT
DTSTART;TZID=Australia/Sydney:20150628T123000
DTEND;TZID=Australia/Sydney:20150628T153000
DTSTAMP:20260422T150920
CREATED:20150428T030328Z
LAST-MODIFIED:20150616T035818Z
UID:3211-1435494600-1435505400@www.wellawareness.com.au
SUMMARY:Children's Meditation Sunday 28th June with Patrice Thomas
DESCRIPTION:  \nOur mindfulness and meditation workshops help children and parents to feel more calm and less stressed and anxious. We practice lots of enjoyable and creative meditation techniques and learn how to use these in our everyday lives to improve our wellbeing\, self-esteem and confidence – all so important for school and to keep our happy hearts happy. \nWhen: Sunday 28th June 2015 \n Workshop 1 – 12.30 to 1.30pm for 4 to 6 year olds  \n Workshop 2 – 2 to 3.30pm for 7-14 year olds  \n  \nAll children to be accompanied by parent/s or relative  \nWhere: 14 Ridge St\, NORTH SYDNEY  \nCost: $25.00 adults $10.00 children  \nTo book or for more information:  \nCall 0412 473 335 or Email: patrice@mindfulconnections.com.au
URL:https://www.wellawareness.com.au/event/childrens-meditation-sunday-31st-may-with-patrice-thomas/
LOCATION:‘Ratanagiri’\, 11 Double View Road\, Farrants Hill\, NSW\, 2484\, Australia
CATEGORIES:Meditation Groups
ORGANIZER;CN="Well-Aware-Ness":MAILTO:info@wellawareness.com.au
GEO:-33.8253642;151.1994723
X-APPLE-STRUCTURED-LOCATION;VALUE=URI;X-ADDRESS=‘Ratanagiri’ 11 Double View Road Farrants Hill NSW 2484 Australia;X-APPLE-RADIUS=500;X-TITLE=11 Double View Road:geo:151.1994723,-33.8253642
END:VEVENT
END:VCALENDAR