BEGIN:VCALENDAR
VERSION:2.0
PRODID:-//Well-Aware-Ness - ECPv5.3.1//NONSGML v1.0//EN
CALSCALE:GREGORIAN
METHOD:PUBLISH
X-WR-CALNAME:Well-Aware-Ness
X-ORIGINAL-URL:https://www.wellawareness.com.au
X-WR-CALDESC:Events for Well-Aware-Ness
BEGIN:VTIMEZONE
TZID:Australia/Sydney
BEGIN:STANDARD
TZOFFSETFROM:+1100
TZOFFSETTO:+1000
TZNAME:AEST
DTSTART:20160402T160000
END:STANDARD
BEGIN:DAYLIGHT
TZOFFSETFROM:+1000
TZOFFSETTO:+1100
TZNAME:AEDT
DTSTART:20161001T160000
END:DAYLIGHT
END:VTIMEZONE
BEGIN:VEVENT
DTSTART;TZID=Australia/Sydney:20161127T140000
DTEND;TZID=Australia/Sydney:20161127T153000
DTSTAMP:20260422T112839
CREATED:20160202T015949Z
LAST-MODIFIED:20161018T022042Z
UID:3568-1480255200-1480260600@www.wellawareness.com.au
SUMMARY:Children's Meditation - Sunday 27th November 2016
DESCRIPTION:Mindfulness & Meditation for Children \nwith Patrice Thomas \n(MEd; BEd; Mindfulness Based Cognitive Trainer & Meditation Teacher – Adults; Mindfulness Trainer for Children & Families; Author; Consultant; Conference & Professional Development Presenter) \nWhere: Well-Aware-Ness Psychology 14 Ridge St\, North Sydney \nTime: 2.00 to 3.30pm \nFor children from 4 to 14 years \nAll children must be accompanied by a parent or grandparent \nCost: Adults $20.00 Children $10.00 \nBooking your places by email is essential: \npatrice@mindfulconnections.com.au \nFor more info: Call 0412 473 335
URL:https://www.wellawareness.com.au/event/childrens-meditation-sunday-28th-february-2016/
LOCATION:‘Ratanagiri’\, 11 Double View Road\, Farrants Hill\, NSW\, 2484\, Australia
CATEGORIES:Workshops
ATTACH;FMTTYPE=image/jpeg:https://www.wellawareness.com.au/wp-content/uploads/2015/07/Childrens-Meditation.jpg
ORGANIZER;CN="Well-Aware-Ness":MAILTO:info@wellawareness.com.au
GEO:-33.8253642;151.1994723
X-APPLE-STRUCTURED-LOCATION;VALUE=URI;X-ADDRESS=‘Ratanagiri’ 11 Double View Road Farrants Hill NSW 2484 Australia;X-APPLE-RADIUS=500;X-TITLE=11 Double View Road:geo:151.1994723,-33.8253642
END:VEVENT
END:VCALENDAR