BEGIN:VCALENDAR
VERSION:2.0
PRODID:-//Well-Aware-Ness - ECPv5.3.1//NONSGML v1.0//EN
CALSCALE:GREGORIAN
METHOD:PUBLISH
X-WR-CALNAME:Well-Aware-Ness
X-ORIGINAL-URL:https://www.wellawareness.com.au
X-WR-CALDESC:Events for Well-Aware-Ness
BEGIN:VTIMEZONE
TZID:Australia/Sydney
BEGIN:STANDARD
TZOFFSETFROM:+1100
TZOFFSETTO:+1000
TZNAME:AEST
DTSTART:20150404T160000
END:STANDARD
BEGIN:DAYLIGHT
TZOFFSETFROM:+1000
TZOFFSETTO:+1100
TZNAME:AEDT
DTSTART:20151003T160000
END:DAYLIGHT
END:VTIMEZONE
BEGIN:VEVENT
DTSTART;TZID=Australia/Sydney:20150726T140000
DTEND;TZID=Australia/Sydney:20150726T153000
DTSTAMP:20260423T072812
CREATED:20150708T034009Z
LAST-MODIFIED:20150728T015147Z
UID:3318-1437919200-1437924600@www.wellawareness.com.au
SUMMARY:Children's Meditation -  with Patrice Thomas
DESCRIPTION:Mindfulness & Meditation for Children with Patrice Thomas\n (MEd; BEd; Mindful Based Cognitive Trainer - Adults; Mindfulness Trainer for Children & Families; Author; Consultant; Conference & Professional Development Presenter)\nNext Workshop: Sunday 26th July 2015 \nAge groups: Children 4 to 14 years \nAll children must be accompanied by a parent or grandparent \nCost: Adults $20.00 Children $10.00 \nTime: 2-3.30pm \nTo Book by email: \npatrice@mindfulconnections.com.au \nFor more info: Call 0412 473 335 \nLearning for calm\, peace\, happiness and focus in life.
URL:https://www.wellawareness.com.au/event/childrens-meditation-july-26-with-patrice-thomas/
LOCATION:‘Ratanagiri’\, 11 Double View Road\, Farrants Hill\, NSW\, 2484\, Australia
CATEGORIES:Featured,Workshops
ATTACH;FMTTYPE=image/jpeg:https://www.wellawareness.com.au/wp-content/uploads/2015/07/Childrens-Meditation.jpg
ORGANIZER;CN="Well-Aware-Ness":MAILTO:info@wellawareness.com.au
GEO:-33.8253642;151.1994723
X-APPLE-STRUCTURED-LOCATION;VALUE=URI;X-ADDRESS=‘Ratanagiri’ 11 Double View Road Farrants Hill NSW 2484 Australia;X-APPLE-RADIUS=500;X-TITLE=11 Double View Road:geo:151.1994723,-33.8253642
END:VEVENT
END:VCALENDAR