BEGIN:VCALENDAR
VERSION:2.0
PRODID:-//Well-Aware-Ness - ECPv5.3.1//NONSGML v1.0//EN
CALSCALE:GREGORIAN
METHOD:PUBLISH
X-WR-CALNAME:Well-Aware-Ness
X-ORIGINAL-URL:https://www.wellawareness.com.au
X-WR-CALDESC:Events for Well-Aware-Ness
BEGIN:VTIMEZONE
TZID:Australia/Sydney
BEGIN:STANDARD
TZOFFSETFROM:+1100
TZOFFSETTO:+1000
TZNAME:AEST
DTSTART:20160402T160000
END:STANDARD
BEGIN:DAYLIGHT
TZOFFSETFROM:+1000
TZOFFSETTO:+1100
TZNAME:AEDT
DTSTART:20161001T160000
END:DAYLIGHT
END:VTIMEZONE
BEGIN:VEVENT
DTSTART;TZID=Australia/Sydney:20160703T090000
DTEND;TZID=Australia/Sydney:20160703T160000
DTSTAMP:20260423T073219
CREATED:20160615T044701Z
LAST-MODIFIED:20160615T044819Z
UID:3915-1467536400-1467561600@www.wellawareness.com.au
SUMMARY:Ajahn Tiradhammo at Farrants Hill 3rd July 2016 - ‘The Process of Self’ Making & Unmaking from a Buddhist Perspective
DESCRIPTION:Mindfulness & Buddhist Based Meditation – Sunday 3rd July 2016 \nUrban Retreat \n ‘The Process of Self’ \nMaking & Unmaking from a Buddhist Perspective \nwith Venerable Ajahn Tiradhammo \n  \n‘Most of the time\, our process of self-making is generated automatically & unconsciously. By understanding the basic principles underlying this process\, we have the possibility to unravel it completely and experience the peace of selflessness.’ \n\nListen to Wisdom Teachings \nReceive Instruction and Guidance in Meditation \nEngage in Questions and Discussion\n\n  \nUrban Retreat \n  \nSunday \n3rd July 2016 \n9.00am – 4.00pm \n(bring a plate of lunch to share) \n  \n11 Double View Road Farrants Hill Tweed Coast \n  \nCost by DANA \n$60.00 guide \nContributions support Ajahn Tiradhammo’s expenses  \n  \n  \n 
URL:https://www.wellawareness.com.au/event/ajahn-tiradhammo-at-farrants-hill-3rd-july-2016-the-process-of-self-making-unmaking-from-a-buddhist-perspective/
LOCATION:‘Ratanagiri’\, 11 Double View Road\, Farrants Hill\, NSW\, 2484\, Australia
CATEGORIES:Featured,Vassa Meditation Retreat begins 30th July 2023 (Full-Day),Workshops
ATTACH;FMTTYPE=image/jpeg:https://www.wellawareness.com.au/wp-content/uploads/2016/03/AT-trees-scaled.jpg
ORGANIZER;CN="Well-Aware-Ness":MAILTO:info@wellawareness.com.au
GEO:-33.8253642;151.1994723
X-APPLE-STRUCTURED-LOCATION;VALUE=URI;X-ADDRESS=‘Ratanagiri’ 11 Double View Road Farrants Hill NSW 2484 Australia;X-APPLE-RADIUS=500;X-TITLE=11 Double View Road:geo:151.1994723,-33.8253642
END:VEVENT
END:VCALENDAR