BEGIN:VCALENDAR
VERSION:2.0
PRODID:-//Well-Aware-Ness - ECPv5.3.1//NONSGML v1.0//EN
CALSCALE:GREGORIAN
METHOD:PUBLISH
X-WR-CALNAME:Well-Aware-Ness
X-ORIGINAL-URL:https://www.wellawareness.com.au
X-WR-CALDESC:Events for Well-Aware-Ness
BEGIN:VTIMEZONE
TZID:Australia/Sydney
BEGIN:STANDARD
TZOFFSETFROM:+1100
TZOFFSETTO:+1000
TZNAME:AEST
DTSTART:20190406T160000
END:STANDARD
BEGIN:DAYLIGHT
TZOFFSETFROM:+1000
TZOFFSETTO:+1100
TZNAME:AEDT
DTSTART:20191005T160000
END:DAYLIGHT
END:VTIMEZONE
BEGIN:VEVENT
DTSTART;TZID=Australia/Sydney:20190331T100000
DTEND;TZID=Australia/Sydney:20190331T130000
DTSTAMP:20260423T204708
CREATED:20190211T062503Z
LAST-MODIFIED:20190227T060938Z
UID:4841-1554026400-1554037200@www.wellawareness.com.au
SUMMARY:Meditations and Reflections on The Four Foundations of Mindfulness (Half Day Retreat)
DESCRIPTION:Our next retreat on the theme of ‘The Four Foundations of Mindfulness’ \non Sunday the 31st March\, 10:00am – 1:00pm (NSW time). \nAt Ratanagiri – 11 Double View Road\, Farrants Hill\, Tweed Coast
URL:https://www.wellawareness.com.au/event/4841/
LOCATION:Ratanagiri\, 11 Double View Road\, Farrants Hill NSW 2484\, NSW\, 2484\, Australia
CATEGORIES:Vassa Meditation Retreat begins 30th July 2023 (Full-Day)
ATTACH;FMTTYPE=image/jpeg:https://www.wellawareness.com.au/wp-content/uploads/2014/03/image6.jpg
ORGANIZER;CN="Well-Aware-Ness":MAILTO:info@wellawareness.com.au
GEO:-28.3541283;153.3446649
X-APPLE-STRUCTURED-LOCATION;VALUE=URI;X-ADDRESS=Ratanagiri 11 Double View Road Farrants Hill NSW 2484 NSW 2484 Australia;X-APPLE-RADIUS=500;X-TITLE=11 Double View Road:geo:153.3446649,-28.3541283
END:VEVENT
END:VCALENDAR