BEGIN:VCALENDAR
VERSION:2.0
PRODID:-//Well-Aware-Ness - ECPv5.3.1//NONSGML v1.0//EN
CALSCALE:GREGORIAN
METHOD:PUBLISH
X-WR-CALNAME:Well-Aware-Ness
X-ORIGINAL-URL:https://www.wellawareness.com.au
X-WR-CALDESC:Events for Well-Aware-Ness
BEGIN:VTIMEZONE
TZID:Australia/Sydney
BEGIN:STANDARD
TZOFFSETFROM:+1100
TZOFFSETTO:+1000
TZNAME:AEST
DTSTART:20230401T160000
END:STANDARD
BEGIN:DAYLIGHT
TZOFFSETFROM:+1000
TZOFFSETTO:+1100
TZNAME:AEDT
DTSTART:20230930T160000
END:DAYLIGHT
END:VTIMEZONE
BEGIN:VEVENT
DTSTART;TZID=Australia/Sydney:20230226T093000
DTEND;TZID=Australia/Sydney:20230226T150000
DTSTAMP:20260423T092114
CREATED:20221209T060656Z
LAST-MODIFIED:20230128T021919Z
UID:16038-1677403800-1677423600@www.wellawareness.com.au
SUMMARY:Meditation Day Retreat – Sunday 26th February
DESCRIPTION:2023 SUNDAY MEDITATION DAY RETREAT\nMeditation Day Retreat – Sunday 26th February 9.30am – 3.00pm ‘Appreciating and Practicing Mindfulness’\nThe next Sunday Meditation Day Retreat at Ratanagiri – Farrants Hill\, led by John\, will be: Sunday 26th February (9.30am – 3.00pm NSW time).\nThe theme will be in line with Mindfulness for Calm and Insight Meditation practice – Satipatthana Vipassana.
URL:https://www.wellawareness.com.au/event/2023-sunday-meditation-day-retreat/
LOCATION:‘Ratanagiri’\, 11 Double View Road\, Farrants Hill\, NSW\, 2484\, Australia
CATEGORIES:Featured,Vassa Meditation Retreat begins 30th July 2023 (Full-Day)
ATTACH;FMTTYPE=image/jpeg:https://www.wellawareness.com.au/wp-content/uploads/2022/12/Garden-Buddha-scaled.jpg
ORGANIZER;CN="Well-Aware-Ness":MAILTO:info@wellawareness.com.au
GEO:-33.8253642;151.1994723
X-APPLE-STRUCTURED-LOCATION;VALUE=URI;X-ADDRESS=‘Ratanagiri’ 11 Double View Road Farrants Hill NSW 2484 Australia;X-APPLE-RADIUS=500;X-TITLE=11 Double View Road:geo:151.1994723,-33.8253642
END:VEVENT
END:VCALENDAR